BEGIN:VCALENDAR
VERSION:2.0
PRODID:-//Savor Your Senses - ECPv6.5.1.5//NONSGML v1.0//EN
CALSCALE:GREGORIAN
METHOD:PUBLISH
X-ORIGINAL-URL:https://savoryoursenses.com
X-WR-CALDESC:Events for Savor Your Senses
REFRESH-INTERVAL;VALUE=DURATION:PT1H
X-Robots-Tag:noindex
X-PUBLISHED-TTL:PT1H
BEGIN:VTIMEZONE
TZID:America/Denver
BEGIN:DAYLIGHT
TZOFFSETFROM:-0700
TZOFFSETTO:-0600
TZNAME:MDT
DTSTART:20240310T090000
END:DAYLIGHT
BEGIN:STANDARD
TZOFFSETFROM:-0600
TZOFFSETTO:-0700
TZNAME:MST
DTSTART:20241103T080000
END:STANDARD
END:VTIMEZONE
BEGIN:VEVENT
DTSTART;TZID=America/Denver:20241023T173000
DTEND;TZID=America/Denver:20241023T183000
DTSTAMP:20260423T064405
CREATED:20241001T232056Z
LAST-MODIFIED:20241001T232056Z
UID:2061-1729704600-1729708200@savoryoursenses.com
SUMMARY:Savor Private Markets Insider Summit Chicago
DESCRIPTION:Concert pianist\, Elaine Kwon and saxophonist\, Derrick Tate team up for a tasty music pairing in tribute to Ellington and Chicago’s finest deep-dish.
URL:https://savoryoursenses.com/event/savor-private-markets-insider-summit-chicago
LOCATION:Winston and Strawn LLP\, 35 W. Wacker Drive\, Chicago\, IL
ATTACH;FMTTYPE=image/png:https://savoryoursenses.com/wp-content/uploads/2024/10/Oct-23-2024-PMI-savor-flyer-1.png
END:VEVENT
END:VCALENDAR