BEGIN:VCALENDAR
VERSION:2.0
PRODID:-//Savor Your Senses - ECPv6.5.1.5//NONSGML v1.0//EN
CALSCALE:GREGORIAN
METHOD:PUBLISH
X-ORIGINAL-URL:https://savoryoursenses.com
X-WR-CALDESC:Events for Savor Your Senses
REFRESH-INTERVAL;VALUE=DURATION:PT1H
X-Robots-Tag:noindex
X-PUBLISHED-TTL:PT1H
BEGIN:VTIMEZONE
TZID:America/Denver
BEGIN:DAYLIGHT
TZOFFSETFROM:-0700
TZOFFSETTO:-0600
TZNAME:MDT
DTSTART:20230312T090000
END:DAYLIGHT
BEGIN:STANDARD
TZOFFSETFROM:-0600
TZOFFSETTO:-0700
TZNAME:MST
DTSTART:20231105T080000
END:STANDARD
END:VTIMEZONE
BEGIN:VEVENT
DTSTART;TZID=America/Denver:20231118T180000
DTEND;TZID=America/Denver:20231118T220000
DTSTAMP:20260423T042031
CREATED:20231106T165519Z
LAST-MODIFIED:20231106T165519Z
UID:1982-1700330400-1700344800@savoryoursenses.com
SUMMARY:Savor Power Women 20th Anniversary Gala
DESCRIPTION:Celebrating the 20th Anniversary of Moves Power Women in NYC – a landmark event honoring strong\, savvy\, exceptional women from all sectors of business and society. New York Moves Magazine advocates for women’s rights\, social fairness and equal opportunity. \nSpecial Savor Your Senses performance: \nElaine Kwon\, piano (2008 Power Woman) \nEverett Bradley\, percussion \nSophie Manoloff\, trumpet \nChef Ryan Smith\, culinary and wine expert
URL:https://savoryoursenses.com/event/savor-power-women-20th-anniversary-gala
LOCATION:Mandarin Oriental Hotel\, 80 Columbus Circle\, New York\, NY\, United States
ATTACH;FMTTYPE=image/png:https://savoryoursenses.com/wp-content/uploads/2023/11/savethedate.png
END:VEVENT
END:VCALENDAR