BEGIN:VCALENDAR
VERSION:2.0
PRODID:-//Savor Your Senses - ECPv6.5.1.5//NONSGML v1.0//EN
CALSCALE:GREGORIAN
METHOD:PUBLISH
X-WR-CALNAME:Savor Your Senses
X-ORIGINAL-URL:https://savoryoursenses.com
X-WR-CALDESC:Events for Savor Your Senses
REFRESH-INTERVAL;VALUE=DURATION:PT1H
X-Robots-Tag:noindex
X-PUBLISHED-TTL:PT1H
BEGIN:VTIMEZONE
TZID:UTC
BEGIN:STANDARD
TZOFFSETFROM:+0000
TZOFFSETTO:+0000
TZNAME:UTC
DTSTART:20100101T000000
END:STANDARD
END:VTIMEZONE
BEGIN:VEVENT
DTSTART;TZID=UTC:20110924T190000
DTEND;TZID=UTC:20110924T220000
DTSTAMP:20260420T025920
CREATED:20170817T091307Z
LAST-MODIFIED:20170817T091307Z
UID:1063-1316890800-1316901600@savoryoursenses.com
SUMMARY:Savor at Westchester Conservatory
DESCRIPTION:Presented By:\nVintology Wine and Spirits\n\n\nArtists:\nElaine Kwon\, Piano\n\n\n\n\n\nOverview: \nFundraiser for Guiding Eyes For the Blind Featuring wine expert Dean Moretta of Vintology Wine and Spirits
URL:https://savoryoursenses.com/event/savor-at-westchester-conservatory
LOCATION:Westchester Conservatory of Music\, 216 Central Ave\, White Plains\, NY\, United States
ATTACH;FMTTYPE=image/jpeg:https://savoryoursenses.com/wp-content/uploads/2017/08/savor_weschester.jpg
END:VEVENT
BEGIN:VEVENT
DTSTART;TZID=UTC:20110526T190000
DTEND;TZID=UTC:20110526T220000
DTSTAMP:20260420T025920
CREATED:20170817T091512Z
LAST-MODIFIED:20170817T091512Z
UID:1068-1306436400-1306447200@savoryoursenses.com
SUMMARY:Savor at St. Sava Cathedral
DESCRIPTION:Presented By:\nBest Buddies New York\n\n\nArtists:\nElaine Kwon\, Piano\n\n\nExperts:\nAndrew Bell (President of American Sommelier)\n\n\n\nOverview: \nVIP event for sponsors and supporters of Best Buddies NY Carnegie Hall Benefit Concert. Featuring President and Co-founder of American Sommelier\, Andrew Bell and President and Co-founder of Savor Your Senses\, Elaine Kwon in five piano selections paired with five matching wines.
URL:https://savoryoursenses.com/event/savor-at-st-sava-cathedral
LOCATION:St. Sava Cathedral\, 20 W. 26th St.\, New York\, NY\, United States
ATTACH;FMTTYPE=image/jpeg:https://savoryoursenses.com/wp-content/uploads/2017/08/savor_sava.jpeg
END:VEVENT
BEGIN:VEVENT
DTSTART;TZID=UTC:20100422T190000
DTEND;TZID=UTC:20100422T230000
DTSTAMP:20260420T025920
CREATED:20170817T091734Z
LAST-MODIFIED:20170817T091734Z
UID:1073-1271962800-1271977200@savoryoursenses.com
SUMMARY:Savor at Frank & Camilles
DESCRIPTION:Presented By:\nSavor Your Senses and Lehigh University Alumni Association of NYC\n\n\nArtists:\nElaine Kwon\, Piano\n\n\n\nOverview: \nNetworking event sponsored by Lehigh University Alumni Association of NYC. It was fitting that the first musical selection for this inaugural event was a bubbly\, fast-paced Etude by Chopin. The wine chosen to match was a light Prosecco. Together it felt like the christening of ship racing off with its first passengers to destinations unknown. The pairing was appreciated by all\, and the concept was as welcome as the generous pour that launched the guests into gabbing and getting details: “How did you play that?”; “Did you say it’s called the ‘black-key’ etude?”; “How is this different from Champagne?” Though a couple guests recognized the piece\, they were all shocked to witness the acrobatic fingering on the piano at close range. Only the promise of another wine tasting and more music settled them in their seats for the remainder of the program as concert pianist\, Elaine Kwon led the way through a journey of four more pairings and a reception to follow. This diverse set of alumni seemed to be strangers from different ages at the onset. By the end\, the unsuspecting piano store clerk was having trouble breaking up the audience to close up shop! And Elaine had made her point: bringing beautiful music together with the right wines can make any occasion a celebration!!
URL:https://savoryoursenses.com/event/savor-at-frank-camilles
LOCATION:Frank & Camilles Piano Showroom\, NYC\, New York\, NY\, United States
ATTACH;FMTTYPE=image/png:https://savoryoursenses.com/wp-content/uploads/2017/08/savor_frank.png
END:VEVENT
END:VCALENDAR