BEGIN:VCALENDAR
VERSION:2.0
PRODID:-//Savor Your Senses - ECPv6.5.1.5//NONSGML v1.0//EN
CALSCALE:GREGORIAN
METHOD:PUBLISH
X-WR-CALNAME:Savor Your Senses
X-ORIGINAL-URL:https://savoryoursenses.com
X-WR-CALDESC:Events for Savor Your Senses
REFRESH-INTERVAL;VALUE=DURATION:PT1H
X-Robots-Tag:noindex
X-PUBLISHED-TTL:PT1H
BEGIN:VTIMEZONE
TZID:America/Denver
BEGIN:DAYLIGHT
TZOFFSETFROM:-0700
TZOFFSETTO:-0600
TZNAME:MDT
DTSTART:20240310T090000
END:DAYLIGHT
BEGIN:STANDARD
TZOFFSETFROM:-0600
TZOFFSETTO:-0700
TZNAME:MST
DTSTART:20241103T080000
END:STANDARD
END:VTIMEZONE
BEGIN:VEVENT
DTSTART;TZID=America/Denver:20240210T193000
DTEND;TZID=America/Denver:20240210T230000
DTSTAMP:20260423T054926
CREATED:20240202T174144Z
LAST-MODIFIED:20240202T174144Z
UID:2005-1707593400-1707606000@savoryoursenses.com
SUMMARY:Savor Year of the Dragon
DESCRIPTION:Year of the Dragon birthday celebration and Savor Your Senses solo piano performance \nElaine Kwon\, piano \n 
URL:https://savoryoursenses.com/event/savor-year-of-the-dragon
LOCATION:New York private residence
ATTACH;FMTTYPE=image/png:https://savoryoursenses.com/wp-content/uploads/2024/02/Screenshot-2024-02-02-at-11.33.48 AM.png
END:VEVENT
END:VCALENDAR